BEGIN:VCALENDAR
VERSION:2.0
PRODID:icalendar-ruby
CALSCALE:GREGORIAN
METHOD:PUBLISH
BEGIN:VEVENT
DTSTAMP:20260421T202838Z
UID:7b760a4c-facb-49ce-b480-8cac96898cf2
DTSTART:20260530T180000
DTEND:20260531T020000
DESCRIPTION:<p><span style="color: rgb(230\, 59\, 122)\;">Katy’s Palace B
 ar turns 14! 🎂✨</span></p><p><br></p><p><span style="color: rgb(230\,
  59\, 122)\;">14 years of dancing with the best view of the city\, clinkin
 g glasses\, special moments and unforgettable nights 💫 From first drink
 s to early AM goodbyes\, you’ve been part of every memory… and we woul
 dn’t be here without you 🥂 Here’s to celebrating everything we’ve
  built together… and to many more nights of doing exactly what we do bes
 t 🎶</span></p><p><br></p><p><span style="color: rgb(230\, 59\, 122)\;">
 We can’t wait to celebrate with you 💖 </span></p><p><span style="col
 or: rgb(230\, 59\, 122)\;">Tickets are limited to 500\, so don’t wait - 
 we can’t wait to celebrate you ✨ </span></p><p><span style="color: rg
 b(230\, 59\, 122)\;">.•´¸.•´¨) ¸.•¨)</span></p><p><span style=
 "color: rgb(230\, 59\, 122)\;">(¸.•´ (¸.•` ¤ _ TICKETING (Limited 
 tickets available)</span></p><p><span style="color: rgb(230\, 59\, 122)\;"
 >• Early Bird - R150 (Excluding ticketing fees)</span></p><p><span style
 ="color: rgb(230\, 59\, 122)\;">Phase 1 - R200 (Excluding ticketing fees)<
 /span></p><p><span style="color: rgb(230\, 59\, 122)\;">• Door - R350 (I
 f not sold out previously)</span></p><p><span style="color: rgb(230\, 59\,
  122)\;">Ticketing here - </span><a href="https://l.facebook.com/l.php?u=
 http%3A%2F%2Fwww.connectentertainment.co.za%2F%3Ffbclid%3DIwZXh0bgNhZW0CMT
 AAYnJpZBExWDZTdjVyaUp3bFZ0WTVuaXNydGMGYXBwX2lkEDIyMjAzOTE3ODgyMDA4OTIAAR5E
 KeSBXV8aol6C1gqe7oUwaxpA-DYnNHFncvI4oLF5n6KbsPEHAm1KLQqP-A_aem_4a_nWC6Gra5
 ecjc2upD9Cw&h=AT7Sk1XMqXDaqe1OOsUOklhHTqdc1bor8kiGZiLEYj1yvf2jTd2QxOg3bvpj
 _f0z1K5mlqsHO-mXHs7Mquf4Vk9X7SYGLfqVy1NqpaF6HrnmPWm1IrNymFyqpHAigAPkHj-Enc
 0PsOVODd6nmkqBjQ&__tn__=q&c[0]=AT4-tg8FIEFbr-J-n03bjLHTmrJ8rX8HlNR3gppFNVJ
 lG6NCeJLQGN1QCeUCGTGysu22VtyM4S4TfBH-eU5JWoJQLrhzQ38iGYJcVbu8r4fPXOCDjvymJ
 5ZNm_NPPe5u-IcBexzQONaUxI_eTLPfkmTODg-L7I_iJjg" target="_blank" style="col
 or: rgb(230\, 59\, 122)\;">www.connectentertainment.co.za</a></p><p><span 
 style="color: rgb(230\, 59\, 122)\;">*´¨)</span></p><p><span style="colo
 r: rgb(230\, 59\, 122)\;">¸.•´¸.•´¨) ¸.•¨)</span></p><p><span
  style="color: rgb(230\, 59\, 122)\;">(¸.•´ (¸.•` ¤ _ TABLE BOOKIN
 GS</span></p><p><span style="color: rgb(230\, 59\, 122)\;">• R2 000 per 
 table of 4 guests. (Excluding booking fees)</span></p><p><span style="colo
 r: rgb(230\, 59\, 122)\;">Includes 1 x standard bottle of your choice\, 12
  mixers\, entrance for 4 guests and your table.</span></p><p><span style="
 color: rgb(230\, 59\, 122)\;">• R2 500 per table of 6 guests. (Excluding
  booking fees)</span></p><p><span style="color: rgb(230\, 59\, 122)\;">Inc
 ludes 1 x standard bottle of your choice\, 12 mixers\, entrance for 6 gues
 ts and your table.</span></p><p><span style="color: rgb(230\, 59\, 122)\;"
 >Table bookings here - </span><a href="http://www.connectentertainment.co
 .za/?fbclid=IwZXh0bgNhZW0CMTAAYnJpZBExWDZTdjVyaUp3bFZ0WTVuaXNydGMGYXBwX2lk
 EDIyMjAzOTE3ODgyMDA4OTIAAR5EKeSBXV8aol6C1gqe7oUwaxpA-DYnNHFncvI4oLF5n6KbsP
 EHAm1KLQqP-A_aem_4a_nWC6Gra5ecjc2upD9Cw" target="_blank" style="color: rgb
 (230\, 59\, 122)\;">www.connectentertainment.co.za</a></p><p><span style="
 color: rgb(230\, 59\, 122)\;">More info - Info@connectentertainment.co.za 
 or 076 894 2177</span></p><p><span style="color: rgb(230\, 59\, 122)\;">*
 ´¨)</span></p><p><span style="color: rgb(230\, 59\, 122)\;">¸.•´¸.
 •´¨) ¸.•¨)</span></p><p><span style="color: rgb(230\, 59\, 122)\;"
 >(¸.•´ (¸.•` ¤ _VENUE</span></p><p><span style="color: rgb(230\, 5
 9\, 122)\;">Katys Palace Bar\, 6 Desmond Road\, Kramerville 2090 Sandton\,
  South Africa</span></p><p><span style="color: rgb(230\, 59\, 122)\;">____
 ________________</span></p><p><span style="color: rgb(230\, 59\, 122)\;">P
 roudly brought to you by Connect Entertainment & Katys Palace Bar.</span><
 /p><p><a href="http://www.connectentertainment.co.za/?fbclid=IwZXh0bgNhZW0
 CMTAAYnJpZBExWDZTdjVyaUp3bFZ0WTVuaXNydGMGYXBwX2lkEDIyMjAzOTE3ODgyMDA4OTIAA
 R5JlfrVXP2mrEU8MSk_ZKySmp1iJRX0drJBUrrvvXFgcJPBeuJ3fkOHnMeNnw_aem_ire_F_7R
 wrgBeM5zHs8OxA" target="_blank" style="color: rgb(230\, 59\, 122)\;">www.c
 onnectentertainment.co.za</a></p><p><span style="color: rgb(230\, 59\, 122
 )\;">Enter at own risk. Connect Entertainment & Katys Palace Bar do not ac
 cept any responsibility for any injuries\, loss or damage to any persons w
 hatsoever when entering the premises. Attendees grant the promoter and spo
 nsors permission for photographers and videographers to take pictures of t
 hem at the event and to use these pictures for any means post event. T's &
  C's apply</span></p><p><span style="color: rgb(230\, 59\, 122)\;">R.O.A.R
 </span></p><p><br></p>
LOCATION:6 Desmond Road\, Kramerville
SUMMARY:Katys Palace Bar 14th Birthday Bash!
URL;VALUE=URI:https://katys.howler.co.za/KatysBirthday14
END:VEVENT
END:VCALENDAR
